Package: OLINgui Version: 1.80.0 Command: /home/biocbuild/R/R/bin/R CMD check --install=check:OLINgui.install-out.txt --library=/home/biocbuild/R/R/site-library --no-vignettes --timings OLINgui_1.80.0.tar.gz StartedAt: 2025-04-01 09:03:04 -0000 (Tue, 01 Apr 2025) EndedAt: 2025-04-01 09:03:41 -0000 (Tue, 01 Apr 2025) EllapsedTime: 37.0 seconds RetCode: 0 Status: WARNINGS CheckDir: OLINgui.Rcheck Warnings: 1