Package: OLIN Version: 1.84.0 Command: /home/biocbuild/R/R/bin/R CMD build --keep-empty-dirs --no-resave-data OLIN StartedAt: 2025-04-01 01:15:10 -0000 (Tue, 01 Apr 2025) EndedAt: 2025-04-01 01:15:54 -0000 (Tue, 01 Apr 2025) EllapsedTime: 44.1 seconds RetCode: 0 Status: OK PackageFile: OLIN_1.84.0.tar.gz PackageFileSize: 2.546 MiB