Package: OLIN Version: 1.84.0 Command: /Library/Frameworks/R.framework/Resources/bin/R CMD INSTALL OLIN StartedAt: 2025-03-31 15:13:31 -0400 (Mon, 31 Mar 2025) EndedAt: 2025-03-31 15:13:36 -0400 (Mon, 31 Mar 2025) EllapsedTime: 5.2 seconds RetCode: 0 Status: OK