Package: OGRE Version: 1.10.0 Command: /Library/Frameworks/R.framework/Resources/bin/R CMD INSTALL OGRE StartedAt: 2025-03-31 15:58:42 -0400 (Mon, 31 Mar 2025) EndedAt: 2025-03-31 16:00:26 -0400 (Mon, 31 Mar 2025) EllapsedTime: 103.4 seconds RetCode: 0 Status: OK