Package: OGRE Version: 1.10.0 Command: /Library/Frameworks/R.framework/Resources/bin/R CMD check --install=check:OGRE.install-out.txt --library=/Library/Frameworks/R.framework/Resources/library --no-vignettes --timings OGRE_1.10.0.tar.gz StartedAt: 2025-04-01 06:36:28 -0400 (Tue, 01 Apr 2025) EndedAt: 2025-04-01 06:50:34 -0400 (Tue, 01 Apr 2025) EllapsedTime: 845.8 seconds RetCode: 0 Status: OK CheckDir: OGRE.Rcheck Warnings: 0