Package: OGRE Version: 1.10.0 Command: /Library/Frameworks/R.framework/Resources/bin/R CMD build --keep-empty-dirs --no-resave-data OGRE StartedAt: 2025-03-31 20:41:15 -0400 (Mon, 31 Mar 2025) EndedAt: 2025-03-31 20:44:22 -0400 (Mon, 31 Mar 2025) EllapsedTime: 186.8 seconds RetCode: 0 Status: OK PackageFile: OGRE_1.10.0.tar.gz PackageFileSize: 1.73 MiB