Package: OGRE Version: 1.10.0 Command: rm -rf OGRE.buildbin-libdir && mkdir OGRE.buildbin-libdir && /Users/biocbuild/BBS/utils/build-universal.sh OGRE_1.10.0.tar.gz /Library/Frameworks/R.framework/Resources/bin/R OGRE.buildbin-libdir StartedAt: 2025-04-01 12:23:16 -0400 (Tue, 01 Apr 2025) EndedAt: 2025-04-01 12:25:03 -0400 (Tue, 01 Apr 2025) EllapsedTime: 107.0 seconds RetCode: 0 Status: OK PackageFile: OGRE_1.10.0.tgz PackageFileSize: 1.253 MiB