Package: NuPoP Version: 2.14.0 Command: /home/biocbuild/bbs-3.20-bioc/R/bin/R CMD check --install=check:NuPoP.install-out.txt --library=/home/biocbuild/bbs-3.20-bioc/R/site-library --timings NuPoP_2.14.0.tar.gz StartedAt: 2025-04-01 00:33:47 -0400 (Tue, 01 Apr 2025) EndedAt: 2025-04-01 00:34:14 -0400 (Tue, 01 Apr 2025) EllapsedTime: 27.1 seconds RetCode: 0 Status: OK CheckDir: NuPoP.Rcheck Warnings: 0