Package: NormqPCR Version: 1.52.0 Command: /home/biocbuild/R/R/bin/R CMD INSTALL NormqPCR StartedAt: 2025-03-31 20:46:50 -0000 (Mon, 31 Mar 2025) EndedAt: 2025-03-31 20:46:59 -0000 (Mon, 31 Mar 2025) EllapsedTime: 9.2 seconds RetCode: 0 Status: OK