Package: NormqPCR Version: 1.52.0 Command: /home/biocbuild/R/R/bin/R CMD check --install=check:NormqPCR.install-out.txt --library=/home/biocbuild/R/R/site-library --no-vignettes --timings NormqPCR_1.52.0.tar.gz StartedAt: 2025-04-01 08:59:50 -0000 (Tue, 01 Apr 2025) EndedAt: 2025-04-01 09:01:48 -0000 (Tue, 01 Apr 2025) EllapsedTime: 118.2 seconds RetCode: 0 Status: WARNINGS CheckDir: NormqPCR.Rcheck Warnings: 1