Package: NormqPCR Version: 1.52.0 Command: chmod a+r NormqPCR -R && F:\biocbuild\bbs-3.20-bioc\R\bin\R.exe CMD build --keep-empty-dirs --no-resave-data NormqPCR StartedAt: 2025-03-31 20:38:44 -0400 (Mon, 31 Mar 2025) EndedAt: 2025-03-31 20:39:14 -0400 (Mon, 31 Mar 2025) EllapsedTime: 29.7 seconds RetCode: 0 Status: OK PackageFile: NormqPCR_1.52.0.tar.gz PackageFileSize: 292.7 KiB