Package: NormqPCR Version: 1.52.0 Command: rm -rf NormqPCR.buildbin-libdir && mkdir NormqPCR.buildbin-libdir && F:\biocbuild\bbs-3.20-bioc\R\bin\R.exe CMD INSTALL --build --library=NormqPCR.buildbin-libdir NormqPCR_1.52.0.tar.gz StartedAt: 2025-04-01 08:46:20 -0400 (Tue, 01 Apr 2025) EndedAt: 2025-04-01 08:47:00 -0400 (Tue, 01 Apr 2025) EllapsedTime: 39.9 seconds RetCode: 0 Status: OK PackageFile: NormqPCR_1.52.0.zip PackageFileSize: 378.5 KiB