Package: NormqPCR Version: 1.52.0 Command: /home/biocbuild/bbs-3.20-bioc/R/bin/R CMD build --keep-empty-dirs --no-resave-data --md5 NormqPCR StartedAt: 2025-03-31 18:20:24 -0400 (Mon, 31 Mar 2025) EndedAt: 2025-03-31 18:20:45 -0400 (Mon, 31 Mar 2025) EllapsedTime: 21.0 seconds RetCode: 0 Status: OK PackageFile: NormqPCR_1.52.0.tar.gz PackageFileSize: 419.2 KiB