Package: NormqPCR Version: 1.52.0 Command: /Library/Frameworks/R.framework/Resources/bin/R CMD INSTALL NormqPCR StartedAt: 2025-03-31 15:58:13 -0400 (Mon, 31 Mar 2025) EndedAt: 2025-03-31 15:58:29 -0400 (Mon, 31 Mar 2025) EllapsedTime: 16.3 seconds RetCode: 0 Status: OK