Package: NormalyzerDE Version: 1.24.0 Command: /home/biocbuild/bbs-3.20-bioc/R/bin/R CMD check --install=check:NormalyzerDE.install-out.txt --library=/home/biocbuild/bbs-3.20-bioc/R/site-library --timings NormalyzerDE_1.24.0.tar.gz StartedAt: 2025-04-01 00:31:21 -0400 (Tue, 01 Apr 2025) EndedAt: 2025-04-01 00:35:20 -0400 (Tue, 01 Apr 2025) EllapsedTime: 239.3 seconds RetCode: 0 Status: WARNINGS CheckDir: NormalyzerDE.Rcheck Warnings: 1