Package: NoRCE Version: 1.18.0 Command: rm -rf NoRCE.buildbin-libdir && mkdir NoRCE.buildbin-libdir && /Users/biocbuild/BBS/utils/build-universal.sh NoRCE_1.18.0.tar.gz /Library/Frameworks/R.framework/Resources/bin/R NoRCE.buildbin-libdir StartedAt: 2025-03-21 12:24:21 -0400 (Fri, 21 Mar 2025) EndedAt: 2025-03-21 12:25:46 -0400 (Fri, 21 Mar 2025) EllapsedTime: 85.1 seconds RetCode: 0 Status: OK PackageFile: NoRCE_1.18.0.tgz PackageFileSize: 2.378 MiB