Package: NewWave Version: 1.16.0 Command: /Library/Frameworks/R.framework/Resources/bin/R CMD INSTALL NewWave StartedAt: 2025-03-31 17:51:13 -0400 (Mon, 31 Mar 2025) EndedAt: 2025-03-31 17:51:43 -0400 (Mon, 31 Mar 2025) EllapsedTime: 29.1 seconds RetCode: 0 Status: OK