Package: NeuCA Version: 1.12.0 Command: /Library/Frameworks/R.framework/Resources/bin/R CMD INSTALL NeuCA StartedAt: 2025-03-31 15:50:24 -0400 (Mon, 31 Mar 2025) EndedAt: 2025-03-31 15:51:16 -0400 (Mon, 31 Mar 2025) EllapsedTime: 52.5 seconds RetCode: 0 Status: OK