Package: NetPathMiner Version: 1.42.0 Command: /Library/Frameworks/R.framework/Resources/bin/R CMD build --keep-empty-dirs --no-resave-data NetPathMiner StartedAt: 2025-04-01 04:18:45 -0400 (Tue, 01 Apr 2025) EndedAt: 2025-04-01 04:19:20 -0400 (Tue, 01 Apr 2025) EllapsedTime: 34.9 seconds RetCode: 0 Status: OK PackageFile: NetPathMiner_1.42.0.tar.gz PackageFileSize: 2.474 MiB