Package: NetActivity Version: 1.8.0 Command: /home/biocbuild/R/R/bin/R CMD INSTALL NetActivity StartedAt: 2025-03-31 20:27:49 -0000 (Mon, 31 Mar 2025) EndedAt: 2025-03-31 20:28:19 -0000 (Mon, 31 Mar 2025) EllapsedTime: 29.8 seconds RetCode: 0 Status: OK