Package: NetActivity Version: 1.8.0 Command: /home/biocbuild/R/R/bin/R CMD check --install=check:NetActivity.install-out.txt --library=/home/biocbuild/R/R/site-library --no-vignettes --timings NetActivity_1.8.0.tar.gz StartedAt: 2025-04-01 08:54:48 -0000 (Tue, 01 Apr 2025) EndedAt: 2025-04-01 08:59:14 -0000 (Tue, 01 Apr 2025) EllapsedTime: 266.4 seconds RetCode: 0 Status: OK CheckDir: NetActivity.Rcheck Warnings: 0