Package: NetActivity Version: 1.8.0 Command: /home/biocbuild/R/R/bin/R CMD build --keep-empty-dirs --no-resave-data NetActivity StartedAt: 2025-04-01 01:09:28 -0000 (Tue, 01 Apr 2025) EndedAt: 2025-04-01 01:10:42 -0000 (Tue, 01 Apr 2025) EllapsedTime: 74.0 seconds RetCode: 0 Status: OK PackageFile: NetActivity_1.8.0.tar.gz PackageFileSize: 420.3 KiB