Package: Nebulosa Version: 1.16.0 Command: /home/biocbuild/R/R/bin/R CMD INSTALL Nebulosa StartedAt: 2025-03-31 20:38:46 -0000 (Mon, 31 Mar 2025) EndedAt: 2025-03-31 20:39:22 -0000 (Mon, 31 Mar 2025) EllapsedTime: 35.6 seconds RetCode: 0 Status: OK