Package: Nebulosa Version: 1.16.0 Command: chmod a+r Nebulosa -R && F:\biocbuild\bbs-3.20-bioc\R\bin\R.exe CMD build --keep-empty-dirs --no-resave-data Nebulosa StartedAt: 2025-03-31 20:35:27 -0400 (Mon, 31 Mar 2025) EndedAt: 2025-03-31 20:39:44 -0400 (Mon, 31 Mar 2025) EllapsedTime: 257.3 seconds RetCode: 0 Status: OK PackageFile: Nebulosa_1.16.0.tar.gz PackageFileSize: 2.345 MiB