Package: Nebulosa Version: 1.16.0 Command: /Library/Frameworks/R.framework/Resources/bin/R CMD INSTALL Nebulosa StartedAt: 2025-03-31 15:45:06 -0400 (Mon, 31 Mar 2025) EndedAt: 2025-03-31 15:46:06 -0400 (Mon, 31 Mar 2025) EllapsedTime: 59.9 seconds RetCode: 0 Status: OK