Package: Nebulosa Version: 1.16.0 Command: /Library/Frameworks/R.framework/Resources/bin/R CMD build --keep-empty-dirs --no-resave-data Nebulosa StartedAt: 2025-04-01 04:14:47 -0400 (Tue, 01 Apr 2025) EndedAt: 2025-04-01 04:18:45 -0400 (Tue, 01 Apr 2025) EllapsedTime: 237.6 seconds RetCode: 0 Status: OK PackageFile: Nebulosa_1.16.0.tar.gz PackageFileSize: 3.754 MiB