Package: NanoTube Version: 1.12.0 Command: F:\biocbuild\bbs-3.20-bioc\R\bin\R.exe CMD INSTALL NanoTube StartedAt: 2025-03-31 16:44:28 -0400 (Mon, 31 Mar 2025) EndedAt: 2025-03-31 16:45:17 -0400 (Mon, 31 Mar 2025) EllapsedTime: 48.8 seconds RetCode: 0 Status: OK