Package: NanoStringNCTools Version: 1.14.0 Command: rm -rf NanoStringNCTools.buildbin-libdir && mkdir NanoStringNCTools.buildbin-libdir && F:\biocbuild\bbs-3.20-bioc\R\bin\R.exe CMD INSTALL --build --library=NanoStringNCTools.buildbin-libdir NanoStringNCTools_1.14.0.tar.gz StartedAt: 2025-04-01 08:44:24 -0400 (Tue, 01 Apr 2025) EndedAt: 2025-04-01 08:49:51 -0400 (Tue, 01 Apr 2025) EllapsedTime: 327.0 seconds RetCode: 0 Status: OK PackageFile: NanoStringNCTools_1.14.0.zip PackageFileSize: 890.4 KiB