Package: NanoStringDiff Version: 1.36.0 Command: F:\biocbuild\bbs-3.20-bioc\R\bin\R.exe CMD INSTALL NanoStringDiff StartedAt: 2025-03-31 15:25:52 -0400 (Mon, 31 Mar 2025) EndedAt: 2025-03-31 15:26:41 -0400 (Mon, 31 Mar 2025) EllapsedTime: 48.9 seconds RetCode: 0 Status: OK