Package: NanoMethViz Version: 3.2.0 Command: /home/biocbuild/bbs-3.20-bioc/R/bin/R CMD INSTALL NanoMethViz StartedAt: 2025-03-31 15:52:56 -0400 (Mon, 31 Mar 2025) EndedAt: 2025-03-31 15:54:04 -0400 (Mon, 31 Mar 2025) EllapsedTime: 68.3 seconds RetCode: 0 Status: OK