Package: NanoMethViz Version: 3.2.0 Command: /home/biocbuild/bbs-3.20-bioc/R/bin/R CMD check --install=check:NanoMethViz.install-out.txt --library=/home/biocbuild/bbs-3.20-bioc/R/site-library --timings NanoMethViz_3.2.0.tar.gz StartedAt: 2025-04-01 00:23:18 -0400 (Tue, 01 Apr 2025) EndedAt: 2025-04-01 00:34:30 -0400 (Tue, 01 Apr 2025) EllapsedTime: 671.8 seconds RetCode: 0 Status: OK CheckDir: NanoMethViz.Rcheck Warnings: 0