Package: NanoMethViz Version: 3.2.0 Command: /Library/Frameworks/R.framework/Resources/bin/R CMD INSTALL NanoMethViz StartedAt: 2025-03-31 16:25:12 -0400 (Mon, 31 Mar 2025) EndedAt: 2025-03-31 16:27:29 -0400 (Mon, 31 Mar 2025) EllapsedTime: 136.7 seconds RetCode: 0 Status: OK