Package: NanoMethViz Version: 3.2.0 Command: /Library/Frameworks/R.framework/Resources/bin/R CMD build --keep-empty-dirs --no-resave-data NanoMethViz StartedAt: 2025-03-31 20:31:33 -0400 (Mon, 31 Mar 2025) EndedAt: 2025-03-31 20:39:11 -0400 (Mon, 31 Mar 2025) EllapsedTime: 458.0 seconds RetCode: 0 Status: OK PackageFile: NanoMethViz_3.2.0.tar.gz PackageFileSize: 8.397 MiB