Package: NPARC Version: 1.18.0 Command: /home/biocbuild/R/R/bin/R CMD build --keep-empty-dirs --no-resave-data NPARC StartedAt: 2025-04-01 01:13:37 -0000 (Tue, 01 Apr 2025) EndedAt: 2025-04-01 01:19:28 -0000 (Tue, 01 Apr 2025) EllapsedTime: 350.5 seconds RetCode: 0 Status: OK PackageFile: NPARC_1.18.0.tar.gz PackageFileSize: 2.014 MiB