Package: NPARC Version: 1.18.0 Command: /Library/Frameworks/R.framework/Resources/bin/R CMD INSTALL NPARC StartedAt: 2025-03-31 15:24:00 -0400 (Mon, 31 Mar 2025) EndedAt: 2025-03-31 15:24:11 -0400 (Mon, 31 Mar 2025) EllapsedTime: 11.1 seconds RetCode: 0 Status: OK