Package: NPARC Version: 1.18.0 Command: /Library/Frameworks/R.framework/Resources/bin/R CMD check --install=check:NPARC.install-out.txt --library=/Library/Frameworks/R.framework/Resources/library --no-vignettes --timings NPARC_1.18.0.tar.gz StartedAt: 2025-04-02 02:57:52 -0400 (Wed, 02 Apr 2025) EndedAt: 2025-04-02 02:58:51 -0400 (Wed, 02 Apr 2025) EllapsedTime: 59.0 seconds RetCode: 0 Status: OK CheckDir: NPARC.Rcheck Warnings: 0