Package: NOISeq Version: 2.50.0 Command: /home/biocbuild/R/R/bin/R CMD check --install=check:NOISeq.install-out.txt --library=/home/biocbuild/R/R/site-library --no-vignettes --timings NOISeq_2.50.0.tar.gz StartedAt: 2025-04-01 08:59:09 -0000 (Tue, 01 Apr 2025) EndedAt: 2025-04-01 09:01:11 -0000 (Tue, 01 Apr 2025) EllapsedTime: 122.2 seconds RetCode: 0 Status: OK CheckDir: NOISeq.Rcheck Warnings: 0