Package: NOISeq Version: 2.50.0 Command: F:\biocbuild\bbs-3.20-bioc\R\bin\R.exe CMD check --no-multiarch --install=check:NOISeq.install-out.txt --library=F:\biocbuild\bbs-3.20-bioc\R\library --no-vignettes --timings NOISeq_2.50.0.tar.gz StartedAt: 2025-04-01 04:08:37 -0400 (Tue, 01 Apr 2025) EndedAt: 2025-04-01 04:10:38 -0400 (Tue, 01 Apr 2025) EllapsedTime: 121.3 seconds RetCode: 0 Status: OK CheckDir: NOISeq.Rcheck Warnings: 0