Package: NADfinder Version: 1.30.0 Command: F:\biocbuild\bbs-3.20-bioc\R\bin\R.exe CMD check --no-multiarch --install=check:NADfinder.install-out.txt --library=F:\biocbuild\bbs-3.20-bioc\R\library --no-vignettes --timings NADfinder_1.30.0.tar.gz StartedAt: 2025-04-01 03:59:22 -0400 (Tue, 01 Apr 2025) EndedAt: 2025-04-01 04:10:57 -0400 (Tue, 01 Apr 2025) EllapsedTime: 694.9 seconds RetCode: 0 Status: OK CheckDir: NADfinder.Rcheck Warnings: 0