Package: NADfinder Version: 1.30.0 Command: /Library/Frameworks/R.framework/Resources/bin/R CMD build --keep-empty-dirs --no-resave-data NADfinder StartedAt: 2025-04-01 04:09:39 -0400 (Tue, 01 Apr 2025) EndedAt: 2025-04-01 04:13:05 -0400 (Tue, 01 Apr 2025) EllapsedTime: 205.7 seconds RetCode: 0 Status: OK PackageFile: NADfinder_1.30.0.tar.gz PackageFileSize: 6.013 MiB