Package: MungeSumstats Version: 1.14.1 Command: /home/biocbuild/R/R/bin/R CMD INSTALL MungeSumstats StartedAt: 2025-03-31 20:36:09 -0000 (Mon, 31 Mar 2025) EndedAt: 2025-03-31 20:37:02 -0000 (Mon, 31 Mar 2025) EllapsedTime: 52.8 seconds RetCode: 0 Status: OK