Package: MungeSumstats Version: 1.14.1 Command: /Library/Frameworks/R.framework/Resources/bin/R CMD INSTALL MungeSumstats StartedAt: 2025-03-31 15:40:45 -0400 (Mon, 31 Mar 2025) EndedAt: 2025-03-31 15:42:17 -0400 (Mon, 31 Mar 2025) EllapsedTime: 91.6 seconds RetCode: 0 Status: OK