Package: MultiMed Version: 2.28.0 Command: /home/biocbuild/R/R/bin/R CMD check --install=check:MultiMed.install-out.txt --library=/home/biocbuild/R/R/site-library --no-vignettes --timings MultiMed_2.28.0.tar.gz StartedAt: 2025-04-01 08:45:53 -0000 (Tue, 01 Apr 2025) EndedAt: 2025-04-01 08:46:13 -0000 (Tue, 01 Apr 2025) EllapsedTime: 20.1 seconds RetCode: 0 Status: OK CheckDir: MultiMed.Rcheck Warnings: 0