Package: MultiMed Version: 2.28.0 Command: /home/biocbuild/bbs-3.20-bioc/R/bin/R CMD check --install=check:MultiMed.install-out.txt --library=/home/biocbuild/bbs-3.20-bioc/R/site-library --timings MultiMed_2.28.0.tar.gz StartedAt: 2025-04-01 00:20:16 -0400 (Tue, 01 Apr 2025) EndedAt: 2025-04-01 00:20:37 -0400 (Tue, 01 Apr 2025) EllapsedTime: 21.0 seconds RetCode: 0 Status: OK CheckDir: MultiMed.Rcheck Warnings: 0