Package: MultiMed Version: 2.28.0 Command: /Library/Frameworks/R.framework/Resources/bin/R CMD build --keep-empty-dirs --no-resave-data MultiMed StartedAt: 2025-03-31 20:28:47 -0400 (Mon, 31 Mar 2025) EndedAt: 2025-03-31 20:29:07 -0400 (Mon, 31 Mar 2025) EllapsedTime: 20.8 seconds RetCode: 0 Status: OK PackageFile: MultiMed_2.28.0.tar.gz PackageFileSize: 508.3 KiB