Package: MultiMed Version: 2.28.0 Command: /Library/Frameworks/R.framework/Resources/bin/R CMD INSTALL MultiMed StartedAt: 2025-03-31 17:52:48 -0400 (Mon, 31 Mar 2025) EndedAt: 2025-03-31 17:52:51 -0400 (Mon, 31 Mar 2025) EllapsedTime: 2.3 seconds RetCode: 0 Status: OK