Package: MultiMed Version: 2.28.0 Command: /Library/Frameworks/R.framework/Resources/bin/R CMD check --install=check:MultiMed.install-out.txt --library=/Library/Frameworks/R.framework/Resources/library --no-vignettes --timings MultiMed_2.28.0.tar.gz StartedAt: 2025-04-02 02:16:59 -0400 (Wed, 02 Apr 2025) EndedAt: 2025-04-02 02:17:25 -0400 (Wed, 02 Apr 2025) EllapsedTime: 25.8 seconds RetCode: 0 Status: OK CheckDir: MultiMed.Rcheck Warnings: 0