Package: MultiMed Version: 2.28.0 Command: rm -rf MultiMed.buildbin-libdir && mkdir MultiMed.buildbin-libdir && /Users/biocbuild/BBS/utils/build-universal.sh MultiMed_2.28.0.tar.gz /Library/Frameworks/R.framework/Resources/bin/R MultiMed.buildbin-libdir StartedAt: 2025-04-02 15:23:12 -0400 (Wed, 02 Apr 2025) EndedAt: 2025-04-02 15:23:15 -0400 (Wed, 02 Apr 2025) EllapsedTime: 3.3 seconds RetCode: 0 Status: OK PackageFile: MultiMed_2.28.0.tgz PackageFileSize: 525.7 KiB