Package: Mulcom Version: 1.56.0 Command: /home/biocbuild/R/R/bin/R CMD INSTALL Mulcom StartedAt: 2025-03-31 20:18:23 -0000 (Mon, 31 Mar 2025) EndedAt: 2025-03-31 20:18:36 -0000 (Mon, 31 Mar 2025) EllapsedTime: 12.5 seconds RetCode: 0 Status: OK