Package: MsQuality Version: 1.6.2 Command: /home/biocbuild/R/R/bin/R CMD INSTALL MsQuality StartedAt: 2025-03-31 20:50:20 -0000 (Mon, 31 Mar 2025) EndedAt: 2025-03-31 20:51:02 -0000 (Mon, 31 Mar 2025) EllapsedTime: 42.0 seconds RetCode: 0 Status: OK